BEGIN:VCALENDAR
VERSION:2.0
PRODID:-//Plone.org//NONSGML plone.app.event//EN
X-WR-TIMEZONE:Europe/Madrid
BEGIN:VEVENT
SUMMARY:Audiència Pública
DTSTART;TZID=Europe/Madrid;VALUE=DATE-TIME:20131212T203000
DTEND;TZID=Europe/Madrid;VALUE=DATE-TIME:20131212T213000
DTSTAMP;VALUE=DATE-TIME:20260425T162821Z
UID:7285a71119021b77bbfc328f537aa62d
CREATED;VALUE=DATE-TIME:20131212T000000Z
LOCATION:Centre Cívic El Gorg - Riera del Gorg, s/n
ORGANIZER:Regidoria de Participació Ciutadana
COMMENT:Preu: Gratuït
DESCRIPTION:Presentació del Presuppost i de l'Agenda de Participació per al 2014
URL:https://www.svmontalt.cat/document.php?id=7873
END:VEVENT
END:VCALENDAR