BEGIN:VCALENDAR
VERSION:2.0
PRODID:-//Plone.org//NONSGML plone.app.event//EN
X-WR-TIMEZONE:Europe/Madrid
BEGIN:VEVENT
SUMMARY:2on Fòrum Ambiental: Agenda 21
DTSTART;TZID=Europe/Madrid;VALUE=DATE-TIME:20060603T103000
DTEND;TZID=Europe/Madrid;VALUE=DATE-TIME:20060603T113000
DTSTAMP;VALUE=DATE-TIME:20260425T225845Z
UID:d1b18da486f9ec9359279c02e65c35ab
CREATED;VALUE=DATE-TIME:20060603T000000Z
CATEGORIES:Conferència,Agenda cultural
LOCATION:Centre Cívic
ORGANIZER:Regidoria de Medi Ambient
COMMENT:Preu: gratuït
URL:https://www.svmontalt.cat/document.php?id=907
END:VEVENT
END:VCALENDAR