BEGIN:VCALENDAR
VERSION:2.0
PRODID:-//Plone.org//NONSGML plone.app.event//EN
X-WR-TIMEZONE:Europe/Madrid
BEGIN:VEVENT
SUMMARY:Exposició: Foment de la Recollida Selectiva
DTSTART;TZID=Europe/Madrid;VALUE=DATE-TIME:20060703T000000
DTEND;TZID=Europe/Madrid;VALUE=DATE-TIME:20060703T010000
DTSTAMP;VALUE=DATE-TIME:20260425T173506Z
UID:8ec2af3f9f16defac1ea0e4e86c570ef
CREATED;VALUE=DATE-TIME:20060703T000000Z
CATEGORIES:Exposició,Agenda cultural
LOCATION:Rebedor del Centre Cívic El Gorg
ORGANIZER:Regidoria de Medi Ambient amb la col·laboració de la Diputació de Barcelona
COMMENT:Preu: gratuït
Durada: Del 3 al 17 de juliol
DESCRIPTION:Fins el 17 de juliol
URL:https://www.svmontalt.cat/document.php?id=966
END:VEVENT
END:VCALENDAR