BEGIN:VCALENDAR
VERSION:2.0
PRODID:-//Plone.org//NONSGML plone.app.event//EN
X-WR-TIMEZONE:Europe/Madrid
BEGIN:VEVENT
SUMMARY:XVII Edició de les 24 Hores de Bàsquet
DTSTART;TZID=Europe/Madrid;VALUE=DATE-TIME:20070714T110000
DTEND;TZID=Europe/Madrid;VALUE=DATE-TIME:20070714T120000
DTSTAMP;VALUE=DATE-TIME:20260423T030055Z
UID:d0d3091bc82f4afbd0324b2981135f97
CREATED;VALUE=DATE-TIME:20070714T000000Z
CATEGORIES:Esports
ORGANIZER:Club de Bàsquet Sant Vicençs amb la col·laboració de l'Ajuntament de Sant Vicenç de Montalt
DESCRIPTION:Cap de setmana del 14-15 de juliol
URL:https://www.svmontalt.cat/document.php?id=968
END:VEVENT
END:VCALENDAR